{
 "currentVersion": 11.5,
 "serviceDescription": "Campus_Topo_2018",
 "serviceItemId": "b670ed95d59b40bb809f8cb5b92caff6",
 "name": "Campus_Topo_2018",
 "description": "",
 "extent": {
  "xmin": 2641714.886612296,
  "ymin": 228520.82431180787,
  "xmax": 2659552.110124141,
  "ymax": 244431.62768437338,
  "spatialReference": {
   "wkid": 102660,
   "latestWkid": 2238
  }
 },
 "initialExtent": {
  "xmin": 2641714.886612296,
  "ymin": 228520.82431180787,
  "xmax": 2659552.110124141,
  "ymax": 244431.62768437338,
  "spatialReference": {
   "wkid": 102660,
   "latestWkid": 2238
  }
 },
 "fullExtent": {
  "xmin": 2641714.886612296,
  "ymin": 228520.82431180787,
  "xmax": 2659552.110124141,
  "ymax": 244431.62768437338,
  "spatialReference": {
   "wkid": 102660,
   "latestWkid": 2238
  }
 },
 "sortableFields": "",
 "bandCount": 1,
 "pixelType": "U8",
 "minValues": [
  51
 ],
 "maxValues": [
  180
 ],
 "meanValues": [
  92.34561169970277
 ],
 "stdvValues": [
  27.904696084335512
 ],
 "serviceProperties": "Center<\/MosaicMethod>First<\/MosaicOperator>true<\/SortAscending><\/LockImageID><\/TileOrderField>0<\/TileOrderBase>0.000000<\/AvgImageSpacingX>0.000000<\/AvgImageSpacingY>0.0<\/ViewPointX>0.0<\/ViewPointY>0.0<\/ViewPointDefShiftX>0.0<\/ViewPointDefShiftY>None<\/CompressionMethod>75<\/CompressionQuality>0.010000<\/CompressionTolerance>Bilinear<\/SamplingMethod><\/ImageServiceProperties><\/ImageServer>",
 "allowedFields": "",
 "hasMultidimensions": false,
 "pixelSizeX": 71.34889404737949,
 "pixelSizeY": 71.34889404737898,
 "meanPixelSize": 21.747186400013995,
 "datasetFormat": "GRID",
 "uncompressedSize": 55750,
 "blockWidth": 256,
 "blockHeight": 16,
 "compressionType": "RLE",
 "bandNames": [
  "CampusTopo"
 ],
 "allowCopy": true,
 "allowAnalysis": true,
 "itemAccess": false,
 "inspectionCapabilities": "",
 "noDataValue": 0,
 "noDataValues": [
  0
 ],
 "minPixelSize": 0,
 "maxPixelSize": 0,
 "copyrightText": "",
 "serviceDataType": "esriImageServiceDataTypeGeneric",
 "serviceSourceType": "esriImageServiceSourceTypeDataset",
 "objectIdField": "",
 "fields": [],
 "capabilities": "Image,Metadata,Mensuration",
 "defaultMosaicMethod": "Center",
 "allowedMosaicMethods": "",
 "sortField": "",
 "sortValue": null,
 "sortAscending": true,
 "mosaicOperator": "First",
 "defaultCompressionQuality": 75,
 "defaultResamplingMethod": "Bilinear",
 "maxImageHeight": 4100,
 "maxImageWidth": 15000,
 "allowRasterFunction": true,
 "rasterFunctionInfos": [
  {
   "name": "None",
   "description": "",
   "help": ""
  }
 ],
 "rasterTypeInfos": [
  {
   "name": "Raster Dataset",
   "description": "Supports all ArcGIS Raster Datasets",
   "help": ""
  }
 ],
 "mensurationCapabilities": "Basic",
 "hasHistograms": true,
 "hasColormap": false,
 "hasRasterAttributeTable": true,
 "minScale": 0,
 "maxScale": 0,
 "exportTilesAllowed": false,
 "supportsStatistics": false,
 "supportsAdvancedQueries": false,
 "editFieldsInfo": null,
 "ownershipBasedAccessControlForRasters": null,
 "allowComputeTiePoints": false,
 "useStandardizedQueries": true,
 "advancedQueryCapabilities": {
  "useStandardizedQueries": true,
  "supportsStatistics": false,
  "supportsOrderBy": false,
  "supportsDistinct": false,
  "supportsPagination": false
 },
 "spatialReference": {
  "wkid": 102660,
  "latestWkid": 2238
 }
}
