View In:
ArcGIS JavaScript
ArcGIS Online Map Viewer
ArcGIS Earth
Service Description: Campus_Topo_2018
Name: Campus_Topo_2018
Description:
Single Fused Map Cache: false
Extent:
XMin: 2641714.886612296
YMin: 228520.82431180787
XMax: 2659552.110124141
YMax: 244431.62768437338
Spatial Reference: 102660
(2238)
LatestVCSWkid(0)
Initial Extent:
XMin: 2641714.886612296
YMin: 228520.82431180787
XMax: 2659552.110124141
YMax: 244431.62768437338
Spatial Reference: 102660
(2238)
LatestVCSWkid(0)
Full Extent:
XMin: 2641714.886612296
YMin: 228520.82431180787
XMax: 2659552.110124141
YMax: 244431.62768437338
Spatial Reference: 102660
(2238)
LatestVCSWkid(0)
Pixel Size X: 71.34889404737949
Pixel Size Y: 71.34889404737898
Band Count: 1
Pixel Type: U8
RasterFunction Infos: {"rasterFunctionInfos": [{
"name": "None",
"description": "",
"help": ""
}]}
Mensuration Capabilities: Basic
Inspection Capabilities:
Has Histograms: true
Has Colormap: false
Has Multi Dimensions : false
Rendering Rule:
Min Scale: 0
Max Scale: 0
Copyright Text:
Service Data Type: esriImageServiceDataTypeGeneric
Min Values: 51
Max Values: 180
Mean Values: 92.34561169970277
Standard Deviation Values: 27.904696084335512
Object ID Field:
Fields:
None
Default Mosaic Method: Center
Allowed Mosaic Methods:
SortField:
SortValue: null
Mosaic Operator: First
Default Compression Quality: 75
Default Resampling Method: Bilinear
Max Record Count: null
Max Image Height: 4100
Max Image Width: 15000
Max Download Image Count: null
Max Mosaic Image Count: null
Allow Raster Function: true
Allow Copy: true
Allow Analysis: true
Allow Compute TiePoints: false
Supports Statistics: false
Supports Advanced Queries: false
Use StandardizedQueries: true
Raster Type Infos:
Name: Raster Dataset
Description: Supports all ArcGIS Raster Datasets
Help:
Has Raster Attribute Table: true
Edit Fields Info: null
Ownership Based AccessControl For Rasters: null
Child Resources:
Info
Raster Attribute Table
Histograms
Statistics
Key Properties
Legend
Raster Function Infos
Supported Operations:
Export Image
Identify
Measure
Compute Histograms
Compute Statistics Histograms
Get Samples
Compute Class Statistics
Query Boundary
Compute Pixel Location
Compute Angles
Validate
Project